BEGIN:VCALENDAR
PRODID:-//github.com/rianjs/ical.net//NONSGML ical.net 4.0//EN
VERSION:2.0
BEGIN:VEVENT
DESCRIPTION:Det er mye i naturen vi kan spise\, vi må bare lære litt om de
 t. Denne dagen har vi besøk av to meget kyndige på dette!
DTEND:20260509T160000
DTSTAMP:20260423T104617Z
DTSTART:20260509T110000
LOCATION:2. etasje
SEQUENCE:0
SUMMARY:Nyttevekster
UID:11e398f6-a255-4dff-af17-8948fd5443f3
END:VEVENT
END:VCALENDAR
